BEGIN:VCALENDAR
VERSION:2.0
PRODID:-//wp-events-plugin.com//7.2.3.1//EN
BEGIN:VEVENT
UID:10@luizanita.ro
DTSTART;TZID=Europe/Bucharest:20250322T100000
DTEND;TZID=Europe/Bucharest:20250323T180000
DTSTAMP:20251010T132619Z
URL:https://www.luizanita.ro/evenimente/constelatii-de-familie-22-23-marti
 e-2025-cu-luiza-elena-nita/
SUMMARY:Constelații de familie 22 - 23 martie 2025 cu Luiza Elena Niță
DESCRIPTION:Te aștept la workshop-ul Constelații de Familie din data de 2
 2 - 23 martie 2025\, în București\, orele: 10:oo-18:oo  (pot să apară
  mici decalări în program\, în funcție de numărul constelațiilor ce 
 urmează a fi lucrat).\nPauza pentru prânz\, este în jur de  o oră\, p
 lus pauze scurte\, între constelații\, pentru o cafea\, un ceai\, social
 izare.\nPrețuri:\n\nAsistență - 350 RON\nConstelație de Familie - 500 
 RON\n\nÎn cazul în care te retragi cu minim 7 zile înaintea începerii 
 workshop-ului\, suma se restituie integral.\nDacă dorești să știi mai 
 multe despre Metoda Constelațiilor\, poți accesa blog-ul meu: https://ww
 w.luizanita.ro/category/constelatii-de-familie/
ATTACH;FMTTYPE=image/jpeg:https://www.luizanita.ro/wp-content/uploads/Even
 iment-Constelatii-Familiale-22-23-martie-2025-luiza-elena-nita.webp
END:VEVENT
BEGIN:VTIMEZONE
TZID:Europe/Bucharest
X-LIC-LOCATION:Europe/Bucharest
BEGIN:STANDARD
DTSTART:20241027T030000
TZOFFSETFROM:+0300
TZOFFSETTO:+0200
TZNAME:EET
END:STANDARD
END:VTIMEZONE
END:VCALENDAR